BEGIN:VCALENDAR
VERSION:2.0
PRODID:-//Copendero - ECPv6.15.20//NONSGML v1.0//EN
CALSCALE:GREGORIAN
METHOD:PUBLISH
X-ORIGINAL-URL:https://copendero.com
X-WR-CALDESC:Events for Copendero
REFRESH-INTERVAL;VALUE=DURATION:PT1H
X-Robots-Tag:noindex
X-PUBLISHED-TTL:PT1H
BEGIN:VTIMEZONE
TZID:UTC
BEGIN:STANDARD
TZOFFSETFROM:+0000
TZOFFSETTO:+0000
TZNAME:UTC
DTSTART:20250101T000000
END:STANDARD
END:VTIMEZONE
BEGIN:VEVENT
DTSTART;TZID=UTC:20260430T180000
DTEND;TZID=UTC:20260430T210000
DTSTAMP:20260424T141725
CREATED:20260326T152343Z
LAST-MODIFIED:20260402T162859Z
UID:2497-1777572000-1777582800@copendero.com
SUMMARY:DATE NIGHT - $180/COUPLE
DESCRIPTION:Enjoy a one-of-a-kind evening for couples featuring time on the range followed by delicious food and curated wines in our luxurious VIP Lounge.
URL:https://copendero.com/event/date-night-180-couple-2/
END:VEVENT
END:VCALENDAR