BEGIN:VCALENDAR
VERSION:2.0
PRODID:-//Copendero - ECPv6.15.20//NONSGML v1.0//EN
CALSCALE:GREGORIAN
METHOD:PUBLISH
X-WR-CALNAME:Copendero
X-ORIGINAL-URL:https://copendero.com
X-WR-CALDESC:Events for Copendero
REFRESH-INTERVAL;VALUE=DURATION:PT1H
X-Robots-Tag:noindex
X-PUBLISHED-TTL:PT1H
BEGIN:VTIMEZONE
TZID:UTC
BEGIN:STANDARD
TZOFFSETFROM:+0000
TZOFFSETTO:+0000
TZNAME:UTC
DTSTART:20250101T000000
END:STANDARD
END:VTIMEZONE
BEGIN:VEVENT
DTSTART;TZID=UTC:20260207T120000
DTEND;TZID=UTC:20260207T140000
DTSTAMP:20260424T170022
CREATED:20260124T153319Z
LAST-MODIFIED:20260204T180333Z
UID:2306-1770465600-1770472800@copendero.com
SUMMARY:Intro to Archery Course - $45
DESCRIPTION:
URL:https://copendero.com/event/intro-to-archery-course/
CATEGORIES:Class
END:VEVENT
BEGIN:VEVENT
DTSTART;TZID=UTC:20260212T180000
DTEND;TZID=UTC:20260212T210000
DTSTAMP:20260424T170022
CREATED:20260129T230227Z
LAST-MODIFIED:20260204T180257Z
UID:2316-1770919200-1770930000@copendero.com
SUMMARY:Valentine's Date Night - $180/Couple
DESCRIPTION:This year\, skip the clichés and step into a Valentine’s experience designed to be remembered. \nStart with range time (ammo and fan-favorite rentals included)\, then unwind in our VIP Lounge with Chef Jonathan Lestingi of Sorriso Modern Italian Kitchen\, featuring authentic Italian bites\, bubbly\, and wine. The night ends on a sweet note with made-to-order cannolis.
URL:https://copendero.com/event/valentines-date-night/
END:VEVENT
BEGIN:VEVENT
DTSTART;TZID=UTC:20260221T100000
DTEND;TZID=UTC:20260223T200000
DTSTAMP:20260424T170022
CREATED:20260212T195050Z
LAST-MODIFIED:20260212T195050Z
UID:2353-1771668000-1771876800@copendero.com
SUMMARY:.223 Sale
DESCRIPTION:Come out for our .223 blowout sale featuring huge discounts on .223 rifles\, suppressors\, and bulk green tip ammo by the case.
URL:https://copendero.com/event/223-sale/
END:VEVENT
BEGIN:VEVENT
DTSTART;TZID=UTC:20260226T180000
DTEND;TZID=UTC:20260226T200000
DTSTAMP:20260424T170022
CREATED:20260209T141343Z
LAST-MODIFIED:20260209T141343Z
UID:2329-1772128800-1772136000@copendero.com
SUMMARY:S&W Steel Match - $100
DESCRIPTION:This fast-paced competition is a great chance to test your skills\, and with Smith & Wesson Inc. sponsoring the event\, you can expect to compete with top-notch equipment!
URL:https://copendero.com/event/sw-steel-match-100/
END:VEVENT
END:VCALENDAR