BEGIN:VCALENDAR
VERSION:2.0
PRODID:-//Copendero - ECPv6.15.20//NONSGML v1.0//EN
CALSCALE:GREGORIAN
METHOD:PUBLISH
X-WR-CALNAME:Copendero
X-ORIGINAL-URL:https://copendero.com
X-WR-CALDESC:Events for Copendero
REFRESH-INTERVAL;VALUE=DURATION:PT1H
X-Robots-Tag:noindex
X-PUBLISHED-TTL:PT1H
BEGIN:VTIMEZONE
TZID:UTC
BEGIN:STANDARD
TZOFFSETFROM:+0000
TZOFFSETTO:+0000
TZNAME:UTC
DTSTART:20230101T000000
END:STANDARD
END:VTIMEZONE
BEGIN:VEVENT
DTSTART;TZID=UTC:20240725T180000
DTEND;TZID=UTC:20240725T200000
DTSTAMP:20260425T040037
CREATED:20240701T191555Z
LAST-MODIFIED:20240701T191555Z
UID:1509-1721930400-1721937600@copendero.com
SUMMARY:HK Steel Target Match
DESCRIPTION:
URL:https://copendero.com/event/hk-steel-target-match/
END:VEVENT
BEGIN:VEVENT
DTSTART;TZID=UTC:20240720T120000
DTEND;TZID=UTC:20240720T140000
DTSTAMP:20260425T040037
CREATED:20240615T145210Z
LAST-MODIFIED:20240615T145210Z
UID:1496-1721476800-1721484000@copendero.com
SUMMARY:Situational Awareness Class
DESCRIPTION:
URL:https://copendero.com/event/situational-awareness-class/
CATEGORIES:Class
END:VEVENT
BEGIN:VEVENT
DTSTART;TZID=UTC:20240706T090000
DTEND;TZID=UTC:20240706T150000
DTSTAMP:20260425T040037
CREATED:20240605T190211Z
LAST-MODIFIED:20240605T190211Z
UID:1487-1720256400-1720278000@copendero.com
SUMMARY:LTC Class
DESCRIPTION:
URL:https://copendero.com/event/ltc-class-2/
CATEGORIES:Class
END:VEVENT
BEGIN:VEVENT
DTSTART;TZID=UTC:20240705T170000
DTEND;TZID=UTC:20240705T190000
DTSTAMP:20260425T040037
CREATED:20240605T185049Z
LAST-MODIFIED:20240605T185049Z
UID:1485-1720198800-1720206000@copendero.com
SUMMARY:Member Shooting League
DESCRIPTION:
URL:https://copendero.com/event/member-shooting-league-2/
CATEGORIES:Class
END:VEVENT
BEGIN:VEVENT
DTSTART;TZID=UTC:20240625T100000
DTEND;TZID=UTC:20240625T160000
DTSTAMP:20260425T040037
CREATED:20240522T123359Z
LAST-MODIFIED:20240523T110534Z
UID:1395-1719309600-1719331200@copendero.com
SUMMARY:Hunter’s Education
DESCRIPTION:
URL:https://copendero.com/event/hunters-education/
CATEGORIES:Class
END:VEVENT
BEGIN:VEVENT
DTSTART;TZID=UTC:20240607T170000
DTEND;TZID=UTC:20240607T190000
DTSTAMP:20260425T040037
CREATED:20240522T123240Z
LAST-MODIFIED:20240523T110445Z
UID:1393-1717779600-1717786800@copendero.com
SUMMARY:Member Shooting League
DESCRIPTION:
URL:https://copendero.com/event/member-shooting-league/
CATEGORIES:Class
END:VEVENT
BEGIN:VEVENT
DTSTART;TZID=UTC:20240601T090000
DTEND;TZID=UTC:20240601T150000
DTSTAMP:20260425T040037
CREATED:20240522T103437Z
LAST-MODIFIED:20240523T110152Z
UID:1366-1717232400-1717254000@copendero.com
SUMMARY:LTC Class
DESCRIPTION:
URL:https://copendero.com/event/ltc-class/
CATEGORIES:Class
END:VEVENT
END:VCALENDAR