BEGIN:VCALENDAR
VERSION:2.0
PRODID:-//Copendero - ECPv6.15.20//NONSGML v1.0//EN
CALSCALE:GREGORIAN
METHOD:PUBLISH
X-WR-CALNAME:Copendero
X-ORIGINAL-URL:https://copendero.com
X-WR-CALDESC:Events for Copendero
REFRESH-INTERVAL;VALUE=DURATION:PT1H
X-Robots-Tag:noindex
X-PUBLISHED-TTL:PT1H
BEGIN:VTIMEZONE
TZID:UTC
BEGIN:STANDARD
TZOFFSETFROM:+0000
TZOFFSETTO:+0000
TZNAME:UTC
DTSTART:20230101T000000
END:STANDARD
END:VTIMEZONE
BEGIN:VEVENT
DTSTART;TZID=UTC:20250104T090000
DTEND;TZID=UTC:20250104T150000
DTSTAMP:20260425T025231
CREATED:20241231T220748Z
LAST-MODIFIED:20241231T220748Z
UID:1771-1735981200-1736002800@copendero.com
SUMMARY:LTC Class
DESCRIPTION:
URL:https://copendero.com/event/ltc-class-9/
CATEGORIES:Class
END:VEVENT
BEGIN:VEVENT
DTSTART;TZID=UTC:20241219T180000
DTEND;TZID=UTC:20241219T200000
DTSTAMP:20260425T025231
CREATED:20241211T190735Z
LAST-MODIFIED:20241211T190735Z
UID:1744-1734631200-1734638400@copendero.com
SUMMARY:Smith & Wesson Steel Target Match
DESCRIPTION:
URL:https://copendero.com/event/smith-wesson-steel-target-match/
END:VEVENT
BEGIN:VEVENT
DTSTART;TZID=UTC:20241214T120000
DTEND;TZID=UTC:20241214T140000
DTSTAMP:20260425T025231
CREATED:20241122T125909Z
LAST-MODIFIED:20241122T132846Z
UID:1731-1734177600-1734184800@copendero.com
SUMMARY:Situational Awareness Clinic
DESCRIPTION:
URL:https://copendero.com/event/situational-awareness-clinic-2/
CATEGORIES:Class
END:VEVENT
BEGIN:VEVENT
DTSTART;TZID=UTC:20241207T090000
DTEND;TZID=UTC:20241207T150000
DTSTAMP:20260425T025231
CREATED:20241122T125801Z
LAST-MODIFIED:20241122T125801Z
UID:1729-1733562000-1733583600@copendero.com
SUMMARY:LTC Class
DESCRIPTION:
URL:https://copendero.com/event/ltc-class-8/
CATEGORIES:Class
END:VEVENT
BEGIN:VEVENT
DTSTART;TZID=UTC:20241205T180000
DTEND;TZID=UTC:20241205T200000
DTSTAMP:20260425T025231
CREATED:20241017T161615Z
LAST-MODIFIED:20241122T125707Z
UID:1674-1733421600-1733428800@copendero.com
SUMMARY:SPRINGFIELD ARMORY STEEL TARGET MATCH
DESCRIPTION:
URL:https://copendero.com/event/ltc-class-6/
CATEGORIES:Class
END:VEVENT
BEGIN:VEVENT
DTSTART;TZID=UTC:20241121T180000
DTEND;TZID=UTC:20241121T200000
DTSTAMP:20260425T025231
CREATED:20241017T182406Z
LAST-MODIFIED:20241017T182406Z
UID:1680-1732212000-1732219200@copendero.com
SUMMARY:LOW-LIGHT PISTOL COURSE
DESCRIPTION:
URL:https://copendero.com/event/low-light-pistol-course/
CATEGORIES:Class
END:VEVENT
BEGIN:VEVENT
DTSTART;TZID=UTC:20241109T120000
DTEND;TZID=UTC:20241109T140000
DTSTAMP:20260425T025231
CREATED:20241101T190739Z
LAST-MODIFIED:20241101T192841Z
UID:1682-1731153600-1731160800@copendero.com
SUMMARY:SITUATIONAL AWARENESS CLINIC
DESCRIPTION:
URL:https://copendero.com/event/situational-awareness-clinic/
CATEGORIES:Class
END:VEVENT
BEGIN:VEVENT
DTSTART;TZID=UTC:20241102T090000
DTEND;TZID=UTC:20241102T150000
DTSTAMP:20260425T025231
CREATED:20241017T161847Z
LAST-MODIFIED:20241017T161847Z
UID:1678-1730538000-1730559600@copendero.com
SUMMARY:LTC CLASS
DESCRIPTION:
URL:https://copendero.com/event/ltc-class-7/
CATEGORIES:Class
END:VEVENT
BEGIN:VEVENT
DTSTART;TZID=UTC:20241027T140000
DTEND;TZID=UTC:20241027T150000
DTSTAMP:20260425T025231
CREATED:20241017T161303Z
LAST-MODIFIED:20241017T161303Z
UID:1672-1730037600-1730041200@copendero.com
SUMMARY:Carbine Cleaning Course
DESCRIPTION:
URL:https://copendero.com/event/carbine-cleaning-course/
CATEGORIES:Class
END:VEVENT
BEGIN:VEVENT
DTSTART;TZID=UTC:20241005T090000
DTEND;TZID=UTC:20241005T150000
DTSTAMP:20260425T025231
CREATED:20240819T194820Z
LAST-MODIFIED:20240819T194820Z
UID:1599-1728118800-1728140400@copendero.com
SUMMARY:LTC Class
DESCRIPTION:
URL:https://copendero.com/event/ltc-class-5/
END:VEVENT
BEGIN:VEVENT
DTSTART;TZID=UTC:20241005T080000
DTEND;TZID=UTC:20241005T120000
DTSTAMP:20260425T025231
CREATED:20240626T200346Z
LAST-MODIFIED:20240911T163857Z
UID:1499-1728115200-1728129600@copendero.com
SUMMARY:Defensive Rifle Course
DESCRIPTION:
URL:https://copendero.com/event/defensive-rifle-course/
CATEGORIES:Class
END:VEVENT
BEGIN:VEVENT
DTSTART;TZID=UTC:20241004T170000
DTEND;TZID=UTC:20241004T190000
DTSTAMP:20260425T025231
CREATED:20240819T194717Z
LAST-MODIFIED:20240819T194717Z
UID:1597-1728061200-1728068400@copendero.com
SUMMARY:Member Shooting League
DESCRIPTION:
URL:https://copendero.com/event/member-shooting-league-5/
END:VEVENT
BEGIN:VEVENT
DTSTART;TZID=UTC:20241003T180000
DTEND;TZID=UTC:20241003T200000
DTSTAMP:20260425T025231
CREATED:20240911T184549Z
LAST-MODIFIED:20240911T184549Z
UID:1640-1727978400-1727985600@copendero.com
SUMMARY:Copendero Steel Target Match
DESCRIPTION:
URL:https://copendero.com/event/copendero-steel-target-match/
END:VEVENT
BEGIN:VEVENT
DTSTART;TZID=UTC:20240928T100000
DTEND;TZID=UTC:20240928T190000
DTSTAMP:20260425T025231
CREATED:20240919T131738Z
LAST-MODIFIED:20240919T131738Z
UID:1642-1727517600-1727550000@copendero.com
SUMMARY:Copendero 1-Year Anniversary Celebration!
DESCRIPTION:
URL:https://copendero.com/event/copendero-1-year-anniversary-celebration/
END:VEVENT
BEGIN:VEVENT
DTSTART;TZID=UTC:20240921T120000
DTEND;TZID=UTC:20240921T140000
DTSTAMP:20260425T025231
CREATED:20240830T143142Z
LAST-MODIFIED:20240830T143142Z
UID:1616-1726920000-1726927200@copendero.com
SUMMARY:Realtor Safety & Awareness Course
DESCRIPTION:
URL:https://copendero.com/event/realtor-safety-awareness-course/
CATEGORIES:Class
END:VEVENT
BEGIN:VEVENT
DTSTART;TZID=UTC:20240907T090000
DTEND;TZID=UTC:20240907T150000
DTSTAMP:20260425T025231
CREATED:20240819T194501Z
LAST-MODIFIED:20240819T194501Z
UID:1595-1725699600-1725721200@copendero.com
SUMMARY:LTC Class
DESCRIPTION:
URL:https://copendero.com/event/ltc-class-4/
END:VEVENT
BEGIN:VEVENT
DTSTART;TZID=UTC:20240906T170000
DTEND;TZID=UTC:20240906T190000
DTSTAMP:20260425T025231
CREATED:20240819T194239Z
LAST-MODIFIED:20240819T194239Z
UID:1593-1725642000-1725649200@copendero.com
SUMMARY:Member Shooting League
DESCRIPTION:
URL:https://copendero.com/event/member-shooting-league-4/
END:VEVENT
BEGIN:VEVENT
DTSTART;TZID=UTC:20240829T180000
DTEND;TZID=UTC:20240829T200000
DTSTAMP:20260425T025231
CREATED:20240811T180437Z
LAST-MODIFIED:20240818T162910Z
UID:1588-1724954400-1724961600@copendero.com
SUMMARY:SDS Steel Target Match
DESCRIPTION:
URL:https://copendero.com/event/tisas-steel-target-match/
END:VEVENT
BEGIN:VEVENT
DTSTART;TZID=UTC:20240825T140000
DTEND;TZID=UTC:20240825T150000
DTSTAMP:20260425T025231
CREATED:20240811T180151Z
LAST-MODIFIED:20240811T180151Z
UID:1586-1724594400-1724598000@copendero.com
SUMMARY:Handgun Cleaning Course
DESCRIPTION:
URL:https://copendero.com/event/handgun-cleaning-course-2/
CATEGORIES:Class
END:VEVENT
BEGIN:VEVENT
DTSTART;TZID=UTC:20240824T080000
DTEND;TZID=UTC:20240824T120000
DTSTAMP:20260425T025231
CREATED:20240811T182911Z
LAST-MODIFIED:20240811T182911Z
UID:1590-1724486400-1724500800@copendero.com
SUMMARY:Conceal Carry 1 Course
DESCRIPTION:
URL:https://copendero.com/event/conceal-carry-1-course/
CATEGORIES:Class
END:VEVENT
BEGIN:VEVENT
DTSTART;TZID=UTC:20240817T120000
DTEND;TZID=UTC:20240817T140000
DTSTAMP:20260425T025231
CREATED:20240804T173522Z
LAST-MODIFIED:20240804T173522Z
UID:1584-1723896000-1723903200@copendero.com
SUMMARY:Women's Situational Awareness Course
DESCRIPTION:
URL:https://copendero.com/event/womens-situational-awareness-course/
CATEGORIES:Class
END:VEVENT
BEGIN:VEVENT
DTSTART;TZID=UTC:20240811T120000
DTEND;TZID=UTC:20240811T140000
DTSTAMP:20260425T025231
CREATED:20240725T233844Z
LAST-MODIFIED:20240725T233844Z
UID:1572-1723377600-1723384800@copendero.com
SUMMARY:Campus Safety & Awareness Course
DESCRIPTION:
URL:https://copendero.com/event/campus-safety-awareness-course/
CATEGORIES:Class
END:VEVENT
BEGIN:VEVENT
DTSTART;TZID=UTC:20240803T090000
DTEND;TZID=UTC:20240803T150000
DTSTAMP:20260425T025231
CREATED:20240701T191854Z
LAST-MODIFIED:20240701T191854Z
UID:1512-1722675600-1722697200@copendero.com
SUMMARY:LTC Class
DESCRIPTION:
URL:https://copendero.com/event/ltc-class-3/
CATEGORIES:Class
END:VEVENT
BEGIN:VEVENT
DTSTART;TZID=UTC:20240802T170000
DTEND;TZID=UTC:20240802T190000
DTSTAMP:20260425T025231
CREATED:20240701T192148Z
LAST-MODIFIED:20240701T192148Z
UID:1515-1722618000-1722625200@copendero.com
SUMMARY:Member Shooting League
DESCRIPTION:
URL:https://copendero.com/event/member-shooting-league-3/
CATEGORIES:Class
END:VEVENT
BEGIN:VEVENT
DTSTART;TZID=UTC:20240728T140000
DTEND;TZID=UTC:20240728T150000
DTSTAMP:20260425T025231
CREATED:20240701T192332Z
LAST-MODIFIED:20240701T192332Z
UID:1518-1722175200-1722178800@copendero.com
SUMMARY:Handgun Cleaning Course
DESCRIPTION:
URL:https://copendero.com/event/handgun-cleaning-course/
CATEGORIES:Class
END:VEVENT
BEGIN:VEVENT
DTSTART;TZID=UTC:20240725T180000
DTEND;TZID=UTC:20240725T200000
DTSTAMP:20260425T025231
CREATED:20240701T191555Z
LAST-MODIFIED:20240701T191555Z
UID:1509-1721930400-1721937600@copendero.com
SUMMARY:HK Steel Target Match
DESCRIPTION:
URL:https://copendero.com/event/hk-steel-target-match/
END:VEVENT
BEGIN:VEVENT
DTSTART;TZID=UTC:20240720T120000
DTEND;TZID=UTC:20240720T140000
DTSTAMP:20260425T025231
CREATED:20240615T145210Z
LAST-MODIFIED:20240615T145210Z
UID:1496-1721476800-1721484000@copendero.com
SUMMARY:Situational Awareness Class
DESCRIPTION:
URL:https://copendero.com/event/situational-awareness-class/
CATEGORIES:Class
END:VEVENT
BEGIN:VEVENT
DTSTART;TZID=UTC:20240706T090000
DTEND;TZID=UTC:20240706T150000
DTSTAMP:20260425T025231
CREATED:20240605T190211Z
LAST-MODIFIED:20240605T190211Z
UID:1487-1720256400-1720278000@copendero.com
SUMMARY:LTC Class
DESCRIPTION:
URL:https://copendero.com/event/ltc-class-2/
CATEGORIES:Class
END:VEVENT
BEGIN:VEVENT
DTSTART;TZID=UTC:20240705T170000
DTEND;TZID=UTC:20240705T190000
DTSTAMP:20260425T025231
CREATED:20240605T185049Z
LAST-MODIFIED:20240605T185049Z
UID:1485-1720198800-1720206000@copendero.com
SUMMARY:Member Shooting League
DESCRIPTION:
URL:https://copendero.com/event/member-shooting-league-2/
CATEGORIES:Class
END:VEVENT
BEGIN:VEVENT
DTSTART;TZID=UTC:20240625T100000
DTEND;TZID=UTC:20240625T160000
DTSTAMP:20260425T025231
CREATED:20240522T123359Z
LAST-MODIFIED:20240523T110534Z
UID:1395-1719309600-1719331200@copendero.com
SUMMARY:Hunter’s Education
DESCRIPTION:
URL:https://copendero.com/event/hunters-education/
CATEGORIES:Class
END:VEVENT
END:VCALENDAR