BEGIN:VCALENDAR
VERSION:2.0
PRODID:-//Copendero - ECPv6.15.20//NONSGML v1.0//EN
CALSCALE:GREGORIAN
METHOD:PUBLISH
X-WR-CALNAME:Copendero
X-ORIGINAL-URL:https://copendero.com
X-WR-CALDESC:Events for Copendero
REFRESH-INTERVAL;VALUE=DURATION:PT1H
X-Robots-Tag:noindex
X-PUBLISHED-TTL:PT1H
BEGIN:VTIMEZONE
TZID:UTC
BEGIN:STANDARD
TZOFFSETFROM:+0000
TZOFFSETTO:+0000
TZNAME:UTC
DTSTART:20240101T000000
END:STANDARD
END:VTIMEZONE
BEGIN:VEVENT
DTSTART;TZID=UTC:20251004T090000
DTEND;TZID=UTC:20251004T150000
DTSTAMP:20260424T225959
CREATED:20250925T185829Z
LAST-MODIFIED:20250925T185829Z
UID:2174-1759568400-1759590000@copendero.com
SUMMARY:LTC Class
DESCRIPTION:
URL:https://copendero.com/event/ltc-class-17/
CATEGORIES:Class
END:VEVENT
BEGIN:VEVENT
DTSTART;TZID=UTC:20250928T140000
DTEND;TZID=UTC:20250928T150000
DTSTAMP:20260424T225959
CREATED:20250902T165022Z
LAST-MODIFIED:20250902T165022Z
UID:2100-1759068000-1759071600@copendero.com
SUMMARY:Handgun Cleaning Course
DESCRIPTION:
URL:https://copendero.com/event/handgun-cleaning-course-9/
CATEGORIES:Class
END:VEVENT
BEGIN:VEVENT
DTSTART;TZID=UTC:20250927T100000
DTEND;TZID=UTC:20250927T160000
DTSTAMP:20260424T225959
CREATED:20250902T165838Z
LAST-MODIFIED:20250902T165838Z
UID:2102-1758967200-1758988800@copendero.com
SUMMARY:2-Year Anniversary Celebration
DESCRIPTION:Copendero’s 2-Year Anniversary Celebration – Huge Sales\, Giveaways\, and More!
URL:https://copendero.com/event/2-year-anniversary-celebration/
END:VEVENT
BEGIN:VEVENT
DTSTART;TZID=UTC:20250906T090000
DTEND;TZID=UTC:20250906T150000
DTSTAMP:20260424T225959
CREATED:20250902T164840Z
LAST-MODIFIED:20250902T164840Z
UID:2098-1757149200-1757170800@copendero.com
SUMMARY:LTC Class
DESCRIPTION:
URL:https://copendero.com/event/ltc-class-16/
CATEGORIES:Class
END:VEVENT
BEGIN:VEVENT
DTSTART;TZID=UTC:20250831T140000
DTEND;TZID=UTC:20250831T150000
DTSTAMP:20260424T225959
CREATED:20250821T134720Z
LAST-MODIFIED:20250821T134720Z
UID:2061-1756648800-1756652400@copendero.com
SUMMARY:Handgun Cleaning Course
DESCRIPTION:
URL:https://copendero.com/event/handgun-cleaning-course-8/
CATEGORIES:Class
END:VEVENT
BEGIN:VEVENT
DTSTART;TZID=UTC:20250828T180000
DTEND;TZID=UTC:20250828T200000
DTSTAMP:20260424T225959
CREATED:20250821T134549Z
LAST-MODIFIED:20250821T134549Z
UID:2059-1756404000-1756411200@copendero.com
SUMMARY:CZ/GSL Steel Match
DESCRIPTION:
URL:https://copendero.com/event/cz-gsl-steel-match/
END:VEVENT
BEGIN:VEVENT
DTSTART;TZID=UTC:20250823T180000
DTEND;TZID=UTC:20250823T210000
DTSTAMP:20260424T225959
CREATED:20250821T132542Z
LAST-MODIFIED:20250821T173433Z
UID:2057-1755972000-1755982800@copendero.com
SUMMARY:Copendero Wine Mixer
DESCRIPTION:
URL:https://copendero.com/event/copendero-wine-mixer/
END:VEVENT
BEGIN:VEVENT
DTSTART;TZID=UTC:20250823T100000
DTEND;TZID=UTC:20250823T160000
DTSTAMP:20260424T225959
CREATED:20250821T131801Z
LAST-MODIFIED:20250821T151410Z
UID:2055-1755943200-1755964800@copendero.com
SUMMARY:Smith & Wesson Vendor Day
DESCRIPTION:
URL:https://copendero.com/event/smith-wesson-vendor-day/
END:VEVENT
BEGIN:VEVENT
DTSTART;TZID=UTC:20250727T140000
DTEND;TZID=UTC:20250727T150000
DTSTAMP:20260424T225959
CREATED:20250429T142423Z
LAST-MODIFIED:20250429T142423Z
UID:1937-1753624800-1753628400@copendero.com
SUMMARY:Handgun Cleaning Course
DESCRIPTION:
URL:https://copendero.com/event/handgun-cleaning-course-7/
CATEGORIES:Class
END:VEVENT
BEGIN:VEVENT
DTSTART;TZID=UTC:20250724T180000
DTEND;TZID=UTC:20250724T210000
DTSTAMP:20260424T225959
CREATED:20250625T162723Z
LAST-MODIFIED:20250625T162723Z
UID:2028-1753380000-1753390800@copendero.com
SUMMARY:Date Night w/ Fleming's & Sazerac
DESCRIPTION:
URL:https://copendero.com/event/date-night-w-flemings-sazerac/
END:VEVENT
BEGIN:VEVENT
DTSTART;TZID=UTC:20250712T090000
DTEND;TZID=UTC:20250712T150000
DTSTAMP:20260424T225959
CREATED:20250429T142333Z
LAST-MODIFIED:20250528T201254Z
UID:1935-1752310800-1752332400@copendero.com
SUMMARY:LTC Class
DESCRIPTION:
URL:https://copendero.com/event/ltc-class-15/
CATEGORIES:Class
END:VEVENT
BEGIN:VEVENT
DTSTART;TZID=UTC:20250629T140000
DTEND;TZID=UTC:20250629T150000
DTSTAMP:20260424T225959
CREATED:20250429T142209Z
LAST-MODIFIED:20250429T142209Z
UID:1933-1751205600-1751209200@copendero.com
SUMMARY:Handgun Cleaning Course
DESCRIPTION:
URL:https://copendero.com/event/handgun-cleaning-course-6/
CATEGORIES:Class
END:VEVENT
BEGIN:VEVENT
DTSTART;TZID=UTC:20250626T180000
DTEND;TZID=UTC:20250626T210000
DTSTAMP:20260424T225959
CREATED:20250528T201515Z
LAST-MODIFIED:20250528T201738Z
UID:1987-1750960800-1750971600@copendero.com
SUMMARY:Date Night - June 26th
DESCRIPTION:
URL:https://copendero.com/event/date-night-june-26th/
END:VEVENT
BEGIN:VEVENT
DTSTART;TZID=UTC:20250612T180000
DTEND;TZID=UTC:20250612T200000
DTSTAMP:20260424T225959
CREATED:20250429T141950Z
LAST-MODIFIED:20250429T141950Z
UID:1929-1749751200-1749758400@copendero.com
SUMMARY:HK Steel Match
DESCRIPTION:
URL:https://copendero.com/event/hk-steel-match/
END:VEVENT
BEGIN:VEVENT
DTSTART;TZID=UTC:20250607T090000
DTEND;TZID=UTC:20250607T150000
DTSTAMP:20260424T225959
CREATED:20250429T142119Z
LAST-MODIFIED:20250429T142119Z
UID:1931-1749286800-1749308400@copendero.com
SUMMARY:LTC Class
DESCRIPTION:
URL:https://copendero.com/event/ltc-class-14/
CATEGORIES:Class
END:VEVENT
BEGIN:VEVENT
DTSTART;TZID=UTC:20250529T180000
DTEND;TZID=UTC:20250529T210000
DTSTAMP:20260424T225959
CREATED:20250429T141127Z
LAST-MODIFIED:20250429T141127Z
UID:1919-1748541600-1748552400@copendero.com
SUMMARY:Date Night
DESCRIPTION:
URL:https://copendero.com/event/date-night-2/
END:VEVENT
BEGIN:VEVENT
DTSTART;TZID=UTC:20250525T140000
DTEND;TZID=UTC:20250525T150000
DTSTAMP:20260424T225959
CREATED:20250429T141259Z
LAST-MODIFIED:20250429T141259Z
UID:1921-1748181600-1748185200@copendero.com
SUMMARY:Handgun Cleaning Course
DESCRIPTION:
URL:https://copendero.com/event/handgun-cleaning-course-5/
CATEGORIES:Class
END:VEVENT
BEGIN:VEVENT
DTSTART;TZID=UTC:20250522T180000
DTEND;TZID=UTC:20250522T200000
DTSTAMP:20260424T225959
CREATED:20250429T141357Z
LAST-MODIFIED:20250429T141357Z
UID:1923-1747936800-1747944000@copendero.com
SUMMARY:BYOP Steel Match
DESCRIPTION:
URL:https://copendero.com/event/byop-steel-match-2/
END:VEVENT
BEGIN:VEVENT
DTSTART;TZID=UTC:20250510T100000
DTEND;TZID=UTC:20250510T160000
DTSTAMP:20260424T225959
CREATED:20250429T141554Z
LAST-MODIFIED:20250429T141554Z
UID:1925-1746871200-1746892800@copendero.com
SUMMARY:Hunter Education Course
DESCRIPTION:
URL:https://copendero.com/event/hunter-education-course/
CATEGORIES:Class
END:VEVENT
BEGIN:VEVENT
DTSTART;TZID=UTC:20250508T180000
DTEND;TZID=UTC:20250508T200000
DTSTAMP:20260424T225959
CREATED:20250331T115636Z
LAST-MODIFIED:20250402T101626Z
UID:1883-1746727200-1746734400@copendero.com
SUMMARY:Conceal Carry Course
DESCRIPTION:
URL:https://copendero.com/event/conceal-carry-course/
CATEGORIES:Class
END:VEVENT
BEGIN:VEVENT
DTSTART;TZID=UTC:20250503T090000
DTEND;TZID=UTC:20250503T150000
DTSTAMP:20260424T225959
CREATED:20250429T141651Z
LAST-MODIFIED:20250429T141651Z
UID:1927-1746262800-1746284400@copendero.com
SUMMARY:LTC Class
DESCRIPTION:
URL:https://copendero.com/event/ltc-class-13/
CATEGORIES:Class
END:VEVENT
BEGIN:VEVENT
DTSTART;TZID=UTC:20250427T140000
DTEND;TZID=UTC:20250427T150000
DTSTAMP:20260424T225959
CREATED:20250331T115726Z
LAST-MODIFIED:20250331T115726Z
UID:1885-1745762400-1745766000@copendero.com
SUMMARY:Handgun Cleaning Course
DESCRIPTION:
URL:https://copendero.com/event/handgun-cleaning-course-4/
CATEGORIES:Class
END:VEVENT
BEGIN:VEVENT
DTSTART;TZID=UTC:20250424T180000
DTEND;TZID=UTC:20250424T210000
DTSTAMP:20260424T225959
CREATED:20250330T183610Z
LAST-MODIFIED:20250330T183610Z
UID:1879-1745517600-1745528400@copendero.com
SUMMARY:Date Night
DESCRIPTION:
URL:https://copendero.com/event/date-night/
END:VEVENT
BEGIN:VEVENT
DTSTART;TZID=UTC:20250417T180000
DTEND;TZID=UTC:20250417T200000
DTSTAMP:20260424T225959
CREATED:20250331T115521Z
LAST-MODIFIED:20250331T115521Z
UID:1881-1744912800-1744920000@copendero.com
SUMMARY:BYOP Steel Match
DESCRIPTION:
URL:https://copendero.com/event/byop-steel-match/
END:VEVENT
BEGIN:VEVENT
DTSTART;TZID=UTC:20250412T120000
DTEND;TZID=UTC:20250412T140000
DTSTAMP:20260424T225959
CREATED:20250331T115832Z
LAST-MODIFIED:20250331T115832Z
UID:1887-1744459200-1744466400@copendero.com
SUMMARY:Situational Awareness Course
DESCRIPTION:
URL:https://copendero.com/event/situational-awareness-course/
CATEGORIES:Class
END:VEVENT
BEGIN:VEVENT
DTSTART;TZID=UTC:20250405T090000
DTEND;TZID=UTC:20250405T150000
DTSTAMP:20260424T225959
CREATED:20250330T183503Z
LAST-MODIFIED:20250330T183503Z
UID:1877-1743843600-1743865200@copendero.com
SUMMARY:LTC Class
DESCRIPTION:
URL:https://copendero.com/event/ltc-class-12/
CATEGORIES:Class
END:VEVENT
BEGIN:VEVENT
DTSTART;TZID=UTC:20250330T140000
DTEND;TZID=UTC:20250330T150000
DTSTAMP:20260424T225959
CREATED:20250209T193735Z
LAST-MODIFIED:20250209T193735Z
UID:1809-1743343200-1743346800@copendero.com
SUMMARY:Handgun Cleaning Course
DESCRIPTION:
URL:https://copendero.com/event/handgun-cleaning-course-3/
END:VEVENT
BEGIN:VEVENT
DTSTART;TZID=UTC:20250327T180000
DTEND;TZID=UTC:20250327T210000
DTSTAMP:20260424T225959
CREATED:20250318T143258Z
LAST-MODIFIED:20250318T143258Z
UID:1865-1743098400-1743109200@copendero.com
SUMMARY:Copendero Date Night
DESCRIPTION:
URL:https://copendero.com/event/copendero-date-night/
END:VEVENT
BEGIN:VEVENT
DTSTART;TZID=UTC:20250320T180000
DTEND;TZID=UTC:20250320T200000
DTSTAMP:20260424T225959
CREATED:20250318T143011Z
LAST-MODIFIED:20250318T143011Z
UID:1863-1742493600-1742500800@copendero.com
SUMMARY:BYOP Steel Target Match
DESCRIPTION:
URL:https://copendero.com/event/byop-steel-target-match/
END:VEVENT
BEGIN:VEVENT
DTSTART;TZID=UTC:20250308T120000
DTEND;TZID=UTC:20250308T140000
DTSTAMP:20260424T225959
CREATED:20250209T193618Z
LAST-MODIFIED:20250215T152531Z
UID:1807-1741435200-1741442400@copendero.com
SUMMARY:Situational Awareness Clinic
DESCRIPTION:
URL:https://copendero.com/event/situational-awareness-clinic-4/
END:VEVENT
END:VCALENDAR