BEGIN:VCALENDAR
VERSION:2.0
PRODID:-//Copendero - ECPv6.15.20//NONSGML v1.0//EN
CALSCALE:GREGORIAN
METHOD:PUBLISH
X-WR-CALNAME:Copendero
X-ORIGINAL-URL:https://copendero.com
X-WR-CALDESC:Events for Copendero
REFRESH-INTERVAL;VALUE=DURATION:PT1H
X-Robots-Tag:noindex
X-PUBLISHED-TTL:PT1H
BEGIN:VTIMEZONE
TZID:UTC
BEGIN:STANDARD
TZOFFSETFROM:+0000
TZOFFSETTO:+0000
TZNAME:UTC
DTSTART:20250101T000000
END:STANDARD
END:VTIMEZONE
BEGIN:VEVENT
DTSTART;TZID=UTC:20260528T180000
DTEND;TZID=UTC:20260528T210000
DTSTAMP:20260424T203019
CREATED:20260420T175021Z
LAST-MODIFIED:20260423T210231Z
UID:2564-1779991200-1780002000@copendero.com
SUMMARY:Date Night With Roberto's Kitchen - $180/Couple
DESCRIPTION:Enjoy a one-of-a-kind evening for couples featuring time on the range followed by delicious food and curated drinks in our luxurious VIP Lounge.
URL:https://copendero.com/event/date-night-with-robertos-kitchen-180-couple/
END:VEVENT
BEGIN:VEVENT
DTSTART;TZID=UTC:20260620T100000
DTEND;TZID=UTC:20260620T160000
DTSTAMP:20260424T203019
CREATED:20260326T152632Z
LAST-MODIFIED:20260326T152700Z
UID:2499-1781949600-1781971200@copendero.com
SUMMARY:HUNTER EDUCATION COURSE - $15
DESCRIPTION:This course is designed for novice or young hunters\, ages 9 years and above. The course covers the core competencies of firearm and hunting safety\, hunting ethics and wildlife conservation.
URL:https://copendero.com/event/hunter-education-course-15/
CATEGORIES:Class
END:VEVENT
END:VCALENDAR