BEGIN:VCALENDAR
VERSION:2.0
PRODID:-//Copendero - ECPv6.15.20//NONSGML v1.0//EN
CALSCALE:GREGORIAN
METHOD:PUBLISH
X-WR-CALNAME:Copendero
X-ORIGINAL-URL:https://copendero.com
X-WR-CALDESC:Events for Copendero
REFRESH-INTERVAL;VALUE=DURATION:PT1H
X-Robots-Tag:noindex
X-PUBLISHED-TTL:PT1H
BEGIN:VTIMEZONE
TZID:UTC
BEGIN:STANDARD
TZOFFSETFROM:+0000
TZOFFSETTO:+0000
TZNAME:UTC
DTSTART:20250101T000000
END:STANDARD
END:VTIMEZONE
BEGIN:VEVENT
DTSTART;TZID=UTC:20260404T090000
DTEND;TZID=UTC:20260404T150000
DTSTAMP:20260424T153859
CREATED:20260326T151707Z
LAST-MODIFIED:20260326T151826Z
UID:2491-1775293200-1775314800@copendero.com
SUMMARY:LTC CLASS - $65
DESCRIPTION:Are you interested in getting your License to Carry (LTC)? Our Instructors will provide you with the necessary training and knowledge to help you understand the laws surrounding open and concealed carry in the state of Texas.
URL:https://copendero.com/event/ltc-class-65/
CATEGORIES:Class
END:VEVENT
END:VCALENDAR