BEGIN:VCALENDAR
VERSION:2.0
PRODID:-//Copendero - ECPv6.15.20//NONSGML v1.0//EN
CALSCALE:GREGORIAN
METHOD:PUBLISH
X-ORIGINAL-URL:https://copendero.com
X-WR-CALDESC:Events for Copendero
REFRESH-INTERVAL;VALUE=DURATION:PT1H
X-Robots-Tag:noindex
X-PUBLISHED-TTL:PT1H
BEGIN:VTIMEZONE
TZID:UTC
BEGIN:STANDARD
TZOFFSETFROM:+0000
TZOFFSETTO:+0000
TZNAME:UTC
DTSTART:20250101T000000
END:STANDARD
END:VTIMEZONE
BEGIN:VEVENT
DTSTART;TZID=UTC:20260326T180000
DTEND;TZID=UTC:20260326T210000
DTSTAMP:20260424T165337
CREATED:20260206T151254Z
LAST-MODIFIED:20260206T151254Z
UID:2327-1774548000-1774558800@copendero.com
SUMMARY:Date Night - $180/Couple
DESCRIPTION:Enjoy a one-of-a-kind evening for couples featuring time on the range followed by a chef-prepared meal and curated beverages in our luxurious VIP Lounge. It’s the perfect blend of excitement\, great food\, and relaxed conversation—designed for an unforgettable night out together.
URL:https://copendero.com/event/date-night-180-couple/
END:VEVENT
END:VCALENDAR