BEGIN:VCALENDAR
VERSION:2.0
PRODID:-//Copendero - ECPv6.15.20//NONSGML v1.0//EN
CALSCALE:GREGORIAN
METHOD:PUBLISH
X-WR-CALNAME:Copendero
X-ORIGINAL-URL:https://copendero.com
X-WR-CALDESC:Events for Copendero
REFRESH-INTERVAL;VALUE=DURATION:PT1H
X-Robots-Tag:noindex
X-PUBLISHED-TTL:PT1H
BEGIN:VTIMEZONE
TZID:UTC
BEGIN:STANDARD
TZOFFSETFROM:+0000
TZOFFSETTO:+0000
TZNAME:UTC
DTSTART:20250101T000000
END:STANDARD
END:VTIMEZONE
BEGIN:VEVENT
DTSTART;TZID=UTC:20260319T180000
DTEND;TZID=UTC:20260319T200000
DTSTAMP:20260424T165945
CREATED:20260129T221904Z
LAST-MODIFIED:20260204T180127Z
UID:2312-1773943200-1773950400@copendero.com
SUMMARY:HK Steel Match - $100
DESCRIPTION:Be sure to join us for our Heckler & Koch-sponsored steel target shoot! This is an incredible opportunity for shooters to hone their skills in an event that promises to be both fun and challenging. Plus\, with HK sponsoring the event\, you can expect to compete with top-notch equipment!
URL:https://copendero.com/event/hk-steel-match-2/
END:VEVENT
END:VCALENDAR