BEGIN:VCALENDAR
VERSION:2.0
PRODID:-//Copendero - ECPv6.15.20//NONSGML v1.0//EN
CALSCALE:GREGORIAN
METHOD:PUBLISH
X-ORIGINAL-URL:https://copendero.com
X-WR-CALDESC:Events for Copendero
REFRESH-INTERVAL;VALUE=DURATION:PT1H
X-Robots-Tag:noindex
X-PUBLISHED-TTL:PT1H
BEGIN:VTIMEZONE
TZID:UTC
BEGIN:STANDARD
TZOFFSETFROM:+0000
TZOFFSETTO:+0000
TZNAME:UTC
DTSTART:20240101T000000
END:STANDARD
END:VTIMEZONE
BEGIN:VEVENT
DTSTART;TZID=UTC:20251101T090000
DTEND;TZID=UTC:20251101T150000
DTSTAMP:20260424T223150
CREATED:20251008T131524Z
LAST-MODIFIED:20251008T131524Z
UID:2186-1761987600-1762009200@copendero.com
SUMMARY:LTC Class
DESCRIPTION:
URL:https://copendero.com/event/ltc-class-18/
CATEGORIES:Class
END:VEVENT
END:VCALENDAR